Package: methylclock Version: 1.12.0 Command: /Library/Frameworks/R.framework/Resources/bin/R CMD INSTALL methylclock StartedAt: 2025-01-30 16:41:36 -0500 (Thu, 30 Jan 2025) EndedAt: 2025-01-30 16:44:10 -0500 (Thu, 30 Jan 2025) EllapsedTime: 154.9 seconds RetCode: 0 Status: OK