Package: methylclock Version: 1.12.0 Command: /home/biocbuild/bbs-3.20-bioc/R/bin/R CMD check --install=check:methylclock.install-out.txt --library=/home/biocbuild/bbs-3.20-bioc/R/site-library --timings methylclock_1.12.0.tar.gz StartedAt: 2025-01-30 23:49:13 -0500 (Thu, 30 Jan 2025) EndedAt: 2025-01-31 00:07:03 -0500 (Fri, 31 Jan 2025) EllapsedTime: 1070.0 seconds RetCode: 0 Status: OK CheckDir: methylclock.Rcheck Warnings: 0