Package: methylclock Version: 1.12.0 Command: /home/biocbuild/bbs-3.20-bioc/R/bin/R CMD INSTALL methylclock StartedAt: 2025-01-30 15:59:10 -0500 (Thu, 30 Jan 2025) EndedAt: 2025-01-30 16:00:22 -0500 (Thu, 30 Jan 2025) EllapsedTime: 72.6 seconds RetCode: 0 Status: OK