Package: methylscaper Version: 1.14.0 Command: rm -rf methylscaper.buildbin-libdir && mkdir methylscaper.buildbin-libdir && F:\biocbuild\bbs-3.20-bioc\R\bin\R.exe CMD INSTALL --build --library=methylscaper.buildbin-libdir methylscaper_1.14.0.tar.gz StartedAt: 2025-02-04 08:54:30 -0500 (Tue, 04 Feb 2025) EndedAt: 2025-02-04 08:55:33 -0500 (Tue, 04 Feb 2025) EllapsedTime: 63.1 seconds RetCode: 0 Status: OK PackageFile: methylscaper_1.14.0.zip PackageFileSize: 2.972 MiB