##############################################################################
##############################################################################
###
### Running command:
###
###   /home/biocbuild/bbs-3.20-bioc/R/bin/R CMD build --keep-empty-dirs --no-resave-data methylscaper
###
##############################################################################
##############################################################################


* checking for file ‘methylscaper/DESCRIPTION’ ... OK
* preparing ‘methylscaper’:
* checking DESCRIPTION meta-information ... OK
* installing the package to build vignettes
* creating vignettes ... OK
* checking for LF line-endings in source and make files and shell scripts
* checking for empty or unneeded directories
* looking to see if a ‘data/datalist’ file should be added
* building ‘methylscaper_1.14.0.tar.gz’