Package: methylumi Version: 2.52.0 Command: rm -rf methylumi.buildbin-libdir && mkdir methylumi.buildbin-libdir && /Users/biocbuild/BBS/utils/build-universal.sh methylumi_2.52.0.tar.gz /Library/Frameworks/R.framework/Resources/bin/R methylumi.buildbin-libdir StartedAt: 2025-02-01 15:41:51 -0500 (Sat, 01 Feb 2025) EndedAt: 2025-02-01 15:43:05 -0500 (Sat, 01 Feb 2025) EllapsedTime: 73.8 seconds RetCode: 0 Status: OK PackageFile: methylumi_2.52.0.tgz PackageFileSize: 8.415 MiB