Package: methylumi Version: 2.52.0 Command: /Library/Frameworks/R.framework/Resources/bin/R CMD build --keep-empty-dirs --no-resave-data methylumi StartedAt: 2025-01-31 03:12:27 -0500 (Fri, 31 Jan 2025) EndedAt: 2025-01-31 03:17:14 -0500 (Fri, 31 Jan 2025) EllapsedTime: 287.6 seconds RetCode: 0 Status: OK PackageFile: methylumi_2.52.0.tar.gz PackageFileSize: 7.342 MiB