Package: methylumi Version: 2.52.0 Command: /Library/Frameworks/R.framework/Resources/bin/R CMD check --install=check:methylumi.install-out.txt --library=/Library/Frameworks/R.framework/Resources/library --no-vignettes --timings methylumi_2.52.0.tar.gz StartedAt: 2025-02-01 00:53:59 -0500 (Sat, 01 Feb 2025) EndedAt: 2025-02-01 01:00:22 -0500 (Sat, 01 Feb 2025) EllapsedTime: 383.2 seconds RetCode: 0 Status: OK CheckDir: methylumi.Rcheck Warnings: 0