Package: methylumi Version: 2.52.0 Command: /Library/Frameworks/R.framework/Resources/bin/R CMD INSTALL methylumi StartedAt: 2025-01-30 18:04:19 -0500 (Thu, 30 Jan 2025) EndedAt: 2025-01-30 18:05:27 -0500 (Thu, 30 Jan 2025) EllapsedTime: 68.6 seconds RetCode: 0 Status: OK