Package: methylumi Version: 2.52.0 Command: /home/biocbuild/R/R/bin/R CMD build --keep-empty-dirs --no-resave-data methylumi StartedAt: 2024-11-20 02:03:12 -0000 (Wed, 20 Nov 2024) EndedAt: 2024-11-20 02:07:57 -0000 (Wed, 20 Nov 2024) EllapsedTime: 284.4 seconds RetCode: 0 Status: OK PackageFile: methylumi_2.52.0.tar.gz PackageFileSize: 7.326 MiB