Package: methylumi Version: 2.52.0 Command: rm -rf methylumi.buildbin-libdir && mkdir methylumi.buildbin-libdir && /Users/biocbuild/BBS/utils/build-universal.sh methylumi_2.52.0.tar.gz /Library/Frameworks/R.framework/Resources/bin/R methylumi.buildbin-libdir StartedAt: 2024-11-20 04:36:07 -0500 (Wed, 20 Nov 2024) EndedAt: 2024-11-20 04:37:36 -0500 (Wed, 20 Nov 2024) EllapsedTime: 89.6 seconds RetCode: 0 Status: OK PackageFile: methylumi_2.52.0.tgz PackageFileSize: 8.412 MiB