Package: methylumi Version: 2.52.0 Command: rm -rf methylumi.buildbin-libdir && mkdir methylumi.buildbin-libdir && /Users/biocbuild/BBS/utils/build-universal.sh methylumi_2.52.0.tar.gz /Library/Frameworks/R.framework/Resources/bin/R methylumi.buildbin-libdir StartedAt: 2025-01-31 13:09:00 -0500 (Fri, 31 Jan 2025) EndedAt: 2025-01-31 13:11:08 -0500 (Fri, 31 Jan 2025) EllapsedTime: 128.5 seconds RetCode: 0 Status: OK PackageFile: methylumi_2.52.0.tgz PackageFileSize: 8.416 MiB