Package: methylumi Version: 2.52.0 Command: /Library/Frameworks/R.framework/Resources/bin/R CMD build --keep-empty-dirs --no-resave-data methylumi StartedAt: 2025-01-30 20:35:11 -0500 (Thu, 30 Jan 2025) EndedAt: 2025-01-30 20:46:15 -0500 (Thu, 30 Jan 2025) EllapsedTime: 663.8 seconds RetCode: 0 Status: OK PackageFile: methylumi_2.52.0.tar.gz PackageFileSize: 7.342 MiB