Package: methylumi Version: 2.52.0 Command: /home/biocbuild/bbs-3.20-bioc/R/bin/R CMD check --install=check:methylumi.install-out.txt --library=/home/biocbuild/bbs-3.20-bioc/R/site-library --timings methylumi_2.52.0.tar.gz StartedAt: 2025-01-30 23:52:15 -0500 (Thu, 30 Jan 2025) EndedAt: 2025-01-31 00:00:26 -0500 (Fri, 31 Jan 2025) EllapsedTime: 491.4 seconds RetCode: 0 Status: OK CheckDir: methylumi.Rcheck Warnings: 0