Package: methylumi Version: 2.52.0 Command: rm -rf methylumi.buildbin-libdir && mkdir methylumi.buildbin-libdir && F:\biocbuild\bbs-3.20-bioc\R\bin\R.exe CMD INSTALL --build --library=methylumi.buildbin-libdir methylumi_2.52.0.tar.gz StartedAt: 2025-01-31 09:02:00 -0500 (Fri, 31 Jan 2025) EndedAt: 2025-01-31 09:04:25 -0500 (Fri, 31 Jan 2025) EllapsedTime: 145.8 seconds RetCode: 0 Status: OK PackageFile: methylumi_2.52.0.zip PackageFileSize: 8.408 MiB