Package: methylumi Version: 2.52.0 Command: chmod a+r methylumi -R && F:\biocbuild\bbs-3.20-bioc\R\bin\R.exe CMD build --keep-empty-dirs --no-resave-data methylumi StartedAt: 2025-01-30 20:04:30 -0500 (Thu, 30 Jan 2025) EndedAt: 2025-01-30 20:10:03 -0500 (Thu, 30 Jan 2025) EllapsedTime: 333.7 seconds RetCode: 0 Status: OK PackageFile: methylumi_2.52.0.tar.gz PackageFileSize: 7.332 MiB