Package: methylumi Version: 2.52.0 Command: F:\biocbuild\bbs-3.20-bioc\R\bin\R.exe CMD INSTALL methylumi StartedAt: 2025-01-30 16:50:59 -0500 (Thu, 30 Jan 2025) EndedAt: 2025-01-30 16:52:54 -0500 (Thu, 30 Jan 2025) EllapsedTime: 115.4 seconds RetCode: 0 Status: OK