Package: methylumi Version: 2.52.0 Command: /home/biocbuild/R/R/bin/R CMD build --keep-empty-dirs --no-resave-data methylumi StartedAt: 2025-01-31 00:51:33 -0000 (Fri, 31 Jan 2025) EndedAt: 2025-01-31 00:55:47 -0000 (Fri, 31 Jan 2025) EllapsedTime: 254.1 seconds RetCode: 0 Status: OK PackageFile: methylumi_2.52.0.tar.gz PackageFileSize: 7.336 MiB