Package: methylumi Version: 2.52.0 Command: /home/biocbuild/R/R/bin/R CMD INSTALL methylumi StartedAt: 2025-01-30 21:03:51 -0000 (Thu, 30 Jan 2025) EndedAt: 2025-01-30 21:05:04 -0000 (Thu, 30 Jan 2025) EllapsedTime: 72.2 seconds RetCode: 0 Status: OK