Package: mfa Version: 1.28.0 Command: /Library/Frameworks/R.framework/Resources/bin/R CMD INSTALL mfa StartedAt: 2025-02-03 17:10:10 -0500 (Mon, 03 Feb 2025) EndedAt: 2025-02-03 17:10:29 -0500 (Mon, 03 Feb 2025) EllapsedTime: 18.3 seconds RetCode: 0 Status: OK