Package: mfa Version: 1.28.0 Command: /Library/Frameworks/R.framework/Resources/bin/R CMD check --install=check:mfa.install-out.txt --library=/Library/Frameworks/R.framework/Resources/library --no-vignettes --timings mfa_1.28.0.tar.gz StartedAt: 2024-11-09 06:57:22 -0500 (Sat, 09 Nov 2024) EndedAt: 2024-11-09 07:01:33 -0500 (Sat, 09 Nov 2024) EllapsedTime: 250.3 seconds RetCode: 0 Status: OK CheckDir: mfa.Rcheck Warnings: 0