Package: mfa Version: 1.28.0 Command: /home/biocbuild/bbs-3.20-bioc/R/bin/R CMD build --keep-empty-dirs --no-resave-data --md5 mfa StartedAt: 2025-02-17 17:58:07 -0500 (Mon, 17 Feb 2025) EndedAt: 2025-02-17 17:58:38 -0500 (Mon, 17 Feb 2025) EllapsedTime: 30.0 seconds RetCode: 0 Status: OK PackageFile: mfa_1.28.0.tar.gz PackageFileSize: 669.3 <A href="http://en.wikipedia.org/wiki/KiB" target="_blank">KiB</A>