Package: mfa
Version: 1.28.0
Command: /home/biocbuild/bbs-3.20-bioc/R/bin/R CMD INSTALL mfa
StartedAt: 2025-02-17 15:46:18 -0500 (Mon, 17 Feb 2025)
EndedAt: 2025-02-17 15:46:35 -0500 (Mon, 17 Feb 2025)
EllapsedTime: 16.8 seconds
RetCode: 0
Status: OK