Package: mfa
Version: 1.27.0
Command: F:\biocbuild\bbs-3.20-bioc\R\bin\R.exe CMD INSTALL mfa
StartedAt: 2024-06-09 16:32:35 -0400 (Sun, 09 Jun 2024)
EndedAt: 2024-06-09 16:33:07 -0400 (Sun, 09 Jun 2024)
EllapsedTime: 32.8 seconds
RetCode: 0
Status: OK