Package: mgsa Version: 1.54.0 Command: rm -rf mgsa.buildbin-libdir && mkdir mgsa.buildbin-libdir && /Users/biocbuild/BBS/utils/build-universal.sh mgsa_1.54.0.tar.gz /Library/Frameworks/R.framework/Resources/bin/R mgsa.buildbin-libdir StartedAt: 2025-02-01 15:42:49 -0500 (Sat, 01 Feb 2025) EndedAt: 2025-02-01 15:42:59 -0500 (Sat, 01 Feb 2025) EllapsedTime: 10.2 seconds RetCode: 0 Status: OK PackageFile: mgsa_1.54.0.tgz PackageFileSize: 544.8 KiB