Package: mgsa Version: 1.54.0 Command: /Library/Frameworks/R.framework/Resources/bin/R CMD build --keep-empty-dirs --no-resave-data mgsa StartedAt: 2025-01-31 03:15:15 -0500 (Fri, 31 Jan 2025) EndedAt: 2025-01-31 03:15:36 -0500 (Fri, 31 Jan 2025) EllapsedTime: 21.6 seconds RetCode: 0 Status: OK PackageFile: mgsa_1.54.0.tar.gz PackageFileSize: 395.3 KiB