Package: mgsa Version: 1.54.0 Command: rm -rf mgsa.buildbin-libdir && mkdir mgsa.buildbin-libdir && /Users/biocbuild/BBS/utils/build-universal.sh mgsa_1.54.0.tar.gz /Library/Frameworks/R.framework/Resources/bin/R mgsa.buildbin-libdir StartedAt: 2025-01-31 13:09:41 -0500 (Fri, 31 Jan 2025) EndedAt: 2025-01-31 13:10:00 -0500 (Fri, 31 Jan 2025) EllapsedTime: 18.5 seconds RetCode: 0 Status: OK PackageFile: mgsa_1.54.0.tgz PackageFileSize: 546 KiB