Package: mgsa Version: 1.54.0 Command: /Library/Frameworks/R.framework/Resources/bin/R CMD build --keep-empty-dirs --no-resave-data mgsa StartedAt: 2025-01-30 20:38:30 -0500 (Thu, 30 Jan 2025) EndedAt: 2025-01-30 20:39:43 -0500 (Thu, 30 Jan 2025) EllapsedTime: 72.9 seconds RetCode: 0 Status: OK PackageFile: mgsa_1.54.0.tar.gz PackageFileSize: 395.4 KiB