Package: mgsa Version: 1.54.0 Command: chmod a+r mgsa -R && F:\biocbuild\bbs-3.20-bioc\R\bin\R.exe CMD build --keep-empty-dirs --no-resave-data mgsa StartedAt: 2025-02-03 20:20:24 -0500 (Mon, 03 Feb 2025) EndedAt: 2025-02-03 20:21:09 -0500 (Mon, 03 Feb 2025) EllapsedTime: 44.4 seconds RetCode: 0 Status: OK PackageFile: mgsa_1.54.0.tar.gz PackageFileSize: 301.4 KiB