Package: mgsa Version: 1.54.0 Command: F:\biocbuild\bbs-3.20-bioc\R\bin\R.exe CMD INSTALL mgsa StartedAt: 2025-02-10 15:28:25 -0500 (Mon, 10 Feb 2025) EndedAt: 2025-02-10 15:28:47 -0500 (Mon, 10 Feb 2025) EllapsedTime: 22.4 seconds RetCode: 0 Status: OK