Package: miRBaseConverter Version: 1.30.0 Command: rm -rf miRBaseConverter.buildbin-libdir && mkdir miRBaseConverter.buildbin-libdir && /Users/biocbuild/BBS/utils/build-universal.sh miRBaseConverter_1.30.0.tar.gz /Library/Frameworks/R.framework/Resources/bin/R miRBaseConverter.buildbin-libdir StartedAt: 2025-02-05 16:41:10 -0500 (Wed, 05 Feb 2025) EndedAt: 2025-02-05 16:41:33 -0500 (Wed, 05 Feb 2025) EllapsedTime: 23.6 seconds RetCode: 0 Status: OK PackageFile: miRBaseConverter_1.30.0.tgz PackageFileSize: 1.983 MiB