Package: miRBaseConverter Version: 1.30.0 Command: /Library/Frameworks/R.framework/Resources/bin/R CMD build --keep-empty-dirs --no-resave-data miRBaseConverter StartedAt: 2025-02-04 03:29:52 -0500 (Tue, 04 Feb 2025) EndedAt: 2025-02-04 03:30:29 -0500 (Tue, 04 Feb 2025) EllapsedTime: 36.7 seconds RetCode: 0 Status: OK PackageFile: miRBaseConverter_1.30.0.tar.gz PackageFileSize: 1.939 MiB