Package: miRBaseConverter Version: 1.30.0 Command: /Library/Frameworks/R.framework/Resources/bin/R CMD check --install=check:miRBaseConverter.install-out.txt --library=/Library/Frameworks/R.framework/Resources/library --no-vignettes --timings miRBaseConverter_1.30.0.tar.gz StartedAt: 2025-02-05 02:06:46 -0500 (Wed, 05 Feb 2025) EndedAt: 2025-02-05 02:07:35 -0500 (Wed, 05 Feb 2025) EllapsedTime: 48.9 seconds RetCode: 0 Status: OK CheckDir: miRBaseConverter.Rcheck Warnings: 0