Package: miRBaseConverter
Version: 1.30.0
Command: /home/biocbuild/R/R/bin/R CMD check --install=check:miRBaseConverter.install-out.txt --library=/home/biocbuild/R/R/site-library --no-vignettes --timings miRBaseConverter_1.30.0.tar.gz
StartedAt: 2024-11-20 09:55:07 -0000 (Wed, 20 Nov 2024)
EndedAt: 2024-11-20 09:56:02 -0000 (Wed, 20 Nov 2024)
EllapsedTime: 55.1 seconds
RetCode: 0
Status: OK
CheckDir: miRBaseConverter.Rcheck
Warnings: 0