Package: miRBaseConverter Version: 1.30.0 Command: rm -rf miRBaseConverter.buildbin-libdir && mkdir miRBaseConverter.buildbin-libdir && /Users/biocbuild/BBS/utils/build-universal.sh miRBaseConverter_1.30.0.tar.gz /Library/Frameworks/R.framework/Resources/bin/R miRBaseConverter.buildbin-libdir StartedAt: 2025-02-04 13:26:53 -0500 (Tue, 04 Feb 2025) EndedAt: 2025-02-04 13:27:25 -0500 (Tue, 04 Feb 2025) EllapsedTime: 32.0 seconds RetCode: 0 Status: OK PackageFile: miRBaseConverter_1.30.0.tgz PackageFileSize: 1.983 MiB