Package: miRBaseConverter Version: 1.30.0 Command: /Library/Frameworks/R.framework/Resources/bin/R CMD build --keep-empty-dirs --no-resave-data miRBaseConverter StartedAt: 2025-02-03 20:20:28 -0500 (Mon, 03 Feb 2025) EndedAt: 2025-02-03 20:21:17 -0500 (Mon, 03 Feb 2025) EllapsedTime: 48.8 seconds RetCode: 0 Status: OK PackageFile: miRBaseConverter_1.30.0.tar.gz PackageFileSize: 1.939 MiB