Package: miRBaseConverter Version: 1.30.0 Command: /Library/Frameworks/R.framework/Resources/bin/R CMD check --install=check:miRBaseConverter.install-out.txt --library=/Library/Frameworks/R.framework/Resources/library --no-vignettes --timings miRBaseConverter_1.30.0.tar.gz StartedAt: 2025-02-04 06:24:58 -0500 (Tue, 04 Feb 2025) EndedAt: 2025-02-04 06:26:28 -0500 (Tue, 04 Feb 2025) EllapsedTime: 90.2 seconds RetCode: 0 Status: OK CheckDir: miRBaseConverter.Rcheck Warnings: 0