Package: miRBaseConverter Version: 1.30.0 Command: /Library/Frameworks/R.framework/Resources/bin/R CMD INSTALL miRBaseConverter StartedAt: 2025-02-03 15:12:17 -0500 (Mon, 03 Feb 2025) EndedAt: 2025-02-03 15:12:42 -0500 (Mon, 03 Feb 2025) EllapsedTime: 24.9 seconds RetCode: 0 Status: OK