Package: miRBaseConverter Version: 1.30.0 Command: /home/biocbuild/bbs-3.20-bioc/R/bin/R CMD check --install=check:miRBaseConverter.install-out.txt --library=/home/biocbuild/bbs-3.20-bioc/R/site-library --timings miRBaseConverter_1.30.0.tar.gz StartedAt: 2025-02-04 00:10:35 -0500 (Tue, 04 Feb 2025) EndedAt: 2025-02-04 00:11:21 -0500 (Tue, 04 Feb 2025) EllapsedTime: 46.0 seconds RetCode: 0 Status: OK CheckDir: miRBaseConverter.Rcheck Warnings: 0