Package: miRLAB
Version: 1.36.0
Maintainer: Thuc Duy Le
MaintainerEmail: Thuc.Le at unisa.edu.au
git_url: https://git.bioconductor.org/packages/miRLAB
git_branch: RELEASE_3_20
git_last_commit: e6faa9e
git_last_commit_date: 2024-10-29 10:02:31 -0500 (Tue, 29 Oct 2024)