Package: miRLAB Version: 1.36.0 Command: rm -rf miRLAB.buildbin-libdir && mkdir miRLAB.buildbin-libdir && F:\biocbuild\bbs-3.20-bioc\R\bin\R.exe CMD INSTALL --build --library=miRLAB.buildbin-libdir miRLAB_1.36.0.tar.gz StartedAt: 2025-02-04 08:56:35 -0500 (Tue, 04 Feb 2025) EndedAt: 2025-02-04 08:57:24 -0500 (Tue, 04 Feb 2025) EllapsedTime: 49.1 seconds RetCode: 0 Status: OK PackageFile: miRLAB_1.36.0.zip PackageFileSize: 307.5 KiB