Package: miRLAB Version: 1.36.0 Command: F:\biocbuild\bbs-3.20-bioc\R\bin\R.exe CMD check --no-multiarch --install=check:miRLAB.install-out.txt --library=F:\biocbuild\bbs-3.20-bioc\R\library --no-vignettes --timings miRLAB_1.36.0.tar.gz StartedAt: 2025-02-04 03:48:28 -0500 (Tue, 04 Feb 2025) EndedAt: 2025-02-04 03:53:10 -0500 (Tue, 04 Feb 2025) EllapsedTime: 282.7 seconds RetCode: 0 Status: WARNINGS CheckDir: miRLAB.Rcheck Warnings: 1