Package: miRLAB Version: 1.36.0 Command: /home/biocbuild/R/R/bin/R CMD build --keep-empty-dirs --no-resave-data miRLAB StartedAt: 2025-02-04 01:01:07 -0000 (Tue, 04 Feb 2025) EndedAt: 2025-02-04 01:01:53 -0000 (Tue, 04 Feb 2025) EllapsedTime: 46.0 seconds RetCode: 0 Status: OK PackageFile: miRLAB_1.36.0.tar.gz PackageFileSize: 192.8 KiB