Package: miRLAB Version: 1.36.0 Command: /home/biocbuild/R/R/bin/R CMD check --install=check:miRLAB.install-out.txt --library=/home/biocbuild/R/R/site-library --no-vignettes --timings miRLAB_1.36.0.tar.gz StartedAt: 2025-02-04 08:51:08 -0000 (Tue, 04 Feb 2025) EndedAt: 2025-02-04 08:55:50 -0000 (Tue, 04 Feb 2025) EllapsedTime: 282.4 seconds RetCode: 0 Status: WARNINGS CheckDir: miRLAB.Rcheck Warnings: 1