Package: miRNAmeConverter Version: 1.34.0 Command: rm -rf miRNAmeConverter.buildbin-libdir && mkdir miRNAmeConverter.buildbin-libdir && /Users/biocbuild/BBS/utils/build-universal.sh miRNAmeConverter_1.34.0.tar.gz /Library/Frameworks/R.framework/Resources/bin/R miRNAmeConverter.buildbin-libdir StartedAt: 2025-02-05 16:41:33 -0500 (Wed, 05 Feb 2025) EndedAt: 2025-02-05 16:41:51 -0500 (Wed, 05 Feb 2025) EllapsedTime: 18.2 seconds RetCode: 0 Status: OK PackageFile: miRNAmeConverter_1.34.0.tgz PackageFileSize: 581.5 KiB