Package: miRNApath Version: 1.66.0 Command: /Library/Frameworks/R.framework/Resources/bin/R CMD build --keep-empty-dirs --no-resave-data miRNApath StartedAt: 2025-02-04 03:31:11 -0500 (Tue, 04 Feb 2025) EndedAt: 2025-02-04 03:31:33 -0500 (Tue, 04 Feb 2025) EllapsedTime: 22.7 seconds RetCode: 0 Status: OK PackageFile: miRNApath_1.66.0.tar.gz PackageFileSize: 662 KiB