Package: miRNApath Version: 1.66.0 Command: /Library/Frameworks/R.framework/Resources/bin/R CMD build --keep-empty-dirs --no-resave-data miRNApath StartedAt: 2025-02-03 20:22:01 -0500 (Mon, 03 Feb 2025) EndedAt: 2025-02-03 20:22:40 -0500 (Mon, 03 Feb 2025) EllapsedTime: 39.5 seconds RetCode: 0 Status: OK PackageFile: miRNApath_1.66.0.tar.gz PackageFileSize: 662.1 KiB