Package: miRNApath Version: 1.66.0 Command: /Library/Frameworks/R.framework/Resources/bin/R CMD check --install=check:miRNApath.install-out.txt --library=/Library/Frameworks/R.framework/Resources/library --no-vignettes --timings miRNApath_1.66.0.tar.gz StartedAt: 2025-02-18 05:54:59 -0500 (Tue, 18 Feb 2025) EndedAt: 2025-02-18 05:56:37 -0500 (Tue, 18 Feb 2025) EllapsedTime: 98.4 seconds RetCode: 0 Status: OK CheckDir: miRNApath.Rcheck Warnings: 0