Package: miRNAtap Version: 1.40.0 Command: /Library/Frameworks/R.framework/Resources/bin/R CMD check --install=check:miRNAtap.install-out.txt --library=/Library/Frameworks/R.framework/Resources/library --no-vignettes --timings miRNAtap_1.40.0.tar.gz StartedAt: 2025-02-04 06:27:58 -0500 (Tue, 04 Feb 2025) EndedAt: 2025-02-04 06:31:58 -0500 (Tue, 04 Feb 2025) EllapsedTime: 240.1 seconds RetCode: 0 Status: OK CheckDir: miRNAtap.Rcheck Warnings: 0