Package: miRcomp Version: 1.36.0 Command: rm -rf miRcomp.buildbin-libdir && mkdir miRcomp.buildbin-libdir && /Users/biocbuild/BBS/utils/build-universal.sh miRcomp_1.36.0.tar.gz /Library/Frameworks/R.framework/Resources/bin/R miRcomp.buildbin-libdir StartedAt: 2025-02-05 16:41:17 -0500 (Wed, 05 Feb 2025) EndedAt: 2025-02-05 16:41:24 -0500 (Wed, 05 Feb 2025) EllapsedTime: 6.5 seconds RetCode: 0 Status: OK PackageFile: miRcomp_1.36.0.tgz PackageFileSize: 3.351 MiB